1.52711499753500
0.00000000000000
0.00000000000000
-1.52711499753500
-109571.53812187993026
68919.12592074922577
