1.52903653064571
0.00000000000000
0.00000000000000
-1.52903653064571
-120320.73593289309065
68886.12035424947680
