1.52704959115341
0.00000000000000
0.00000000000000
-1.52704959115341
-120348.05685938132228
82935.26533079471847
