1.52895475543881
0.00000000000000
0.00000000000000
-1.52895475543881
-98627.97335328999907
82511.54153896860953
