1.52739376354136
0.00000000000000
0.00000000000000
-1.52739376354136
-153062.99657775112428
69586.68927577266004
