1.52907161355918
0.00000000000000
0.00000000000000
-1.52907161355918
-173968.55356749542989
111563.41286503593437
