1.53028734308169
0.00000000000000
0.00000000000000
-1.53028734308169
-163368.25627320277272
97563.67939234910591
