1.52844290908127
0.00000000000000
0.00000000000000
-1.52844290908127
-109345.88836370996432
82757.27232575164817
