1.52995460068039
0.00000000000000
0.00000000000000
-1.52995460068039
-98962.93146517625428
68802.27429896109970
