1.52817528483258
0.00000000000000
0.00000000000000
-1.52817528483258
-109109.07436536098248
110484.30810720249428
