1.52717401752740
0.00000000000000
0.00000000000000
-1.52717401752740
-152939.06139489987982
83451.88215189514449
