1.52902999454310
0.00000000000000
0.00000000000000
-1.52902999454310
-162995.32262426524539
111429.91509428262361
