1.52693782152757
0.00000000000000
0.00000000000000
-1.52693782152757
-152496.70062826160574
97225.04173985548550
