1.52762878747296
0.00000000000000
0.00000000000000
-1.52762878747296
-119903.78589131166518
110615.53831112975604
