1.52916419933280
0.00000000000000
0.00000000000000
-1.52916419933280
-174647.20389761473052
83835.35874123268877
