1.52646594727384
0.00000000000000
0.00000000000000
-1.52646594727384
-163917.85520051015192
69735.83165021112654
