1.52956836526643
0.00000000000000
0.00000000000000
-1.52956836526643
-141577.88605960519635
111002.91248920792714
