1.52707071948870
0.00000000000000
0.00000000000000
-1.52707071948870
-98132.20643911570369
96328.44264236965682
