1.52846208250256
0.00000000000000
0.00000000000000
-1.52846208250256
-131002.18255264409527
96849.45417412181268
