1.52692559852808
0.00000000000000
0.00000000000000
-1.52692559852808
-131254.66207052220125
82934.18688157929864
