1.52861027541469
0.00000000000000
0.00000000000000
-1.52861027541469
-109217.98528973523935
96455.73757321821176
