1.52756181178229
0.00000000000000
0.00000000000000
-1.52756181178229
-119905.18185394711327
96662.11134625047271
