1.52739382420816
0.00000000000000
0.00000000000000
-1.52739382420816
-131430.96665032897727
69230.68633704443346
