1.52766377064960
0.00000000000000
0.00000000000000
-1.52766377064960
-142112.58640902725165
69265.25972723847372
