1.52740556803395
0.00000000000000
0.00000000000000
-1.52740556803395
-130522.50770430274133
110715.96800290970714
