1.52846678503473
0.00000000000000
0.00000000000000
-1.52846678503473
-152394.87848207523348
111100.75264896058070
