1.52805110485931
0.00000000000000
0.00000000000000
-1.52805110485931
-142111.80284734454472
83237.72883859170543
