1.52785286722909
0.00000000000000
0.00000000000000
-1.52785286722909
-141809.08391100185690
97206.10955264692893
