1.52931521006821
0.00000000000000
0.00000000000000
-1.52931521006821
-174811.11312708477000
69894.18988919918800
