1.52958442462854
0.00000000000000
0.00000000000000
-1.52958442462854
-163623.32497929717647
83702.97020450481796
