1.52905266617404
0.00000000000000
0.00000000000000
-1.52905266617404
-174516.38551750060000
97817.33569065322800
