1.52761933262259
0.00000000000000
0.00000000000000
-1.52761933262259
-218042.80504623675370
84795.08476529843756
