1.52781447572502
0.00000000000000
0.00000000000000
-1.52781447572502
-261189.55248454693356
99982.44485322378750
