1.52761227435605
0.00000000000000
0.00000000000000
-1.52761227435605
-184949.60789395094616
97896.93783730670111
