1.52924945722606
0.00000000000000
0.00000000000000
-1.52924945722606
-196377.79674989896012
84260.04013132603723
