1.52829874325357
0.00000000000000
0.00000000000000
-1.52829874325357
-229371.30012575499131
71228.88164492833312
