1.52715972125081
0.00000000000000
0.00000000000000
-1.52715972125081
-207553.83880142410635
70614.42860806851240
