1.52702139023122
0.00000000000000
0.00000000000000
-1.52702139023122
-238992.56409996617003
113287.78994615764532
