1.52742956856469
0.00000000000000
0.00000000000000
-1.52742956856469
-228940.65050736104604
85111.22029039086192
