1.52761628309109
0.00000000000000
0.00000000000000
-1.52761628309109
-185424.42255703266710
83934.08437499662978
