1.52831445295377
0.00000000000000
0.00000000000000
-1.52831445295377
-261482.38755795662291
86044.34921027075325
