1.52758724014478
0.00000000000000
0.00000000000000
-1.52758724014478
-206562.85188184265280
112337.60558294186194
