1.52738354288989
0.00000000000000
0.00000000000000
-1.52738354288989
-262108.53009173099417
72209.67819096930907
