1.52741330338864
0.00000000000000
0.00000000000000
-1.52741330338864
-196000.78962436455186
98290.93837948940927
