1.52703196410061
0.00000000000000
0.00000000000000
-1.52703196410061
-251127.66591082472587
71948.71503007454157
