1.52780846891235
0.00000000000000
0.00000000000000
-1.52780846891235
-260752.73038618732244
113961.03766896550951
