1.52760030803775
0.00000000000000
0.00000000000000
-1.52760030803775
-217839.60709084142582
98712.52279260472278
