1.52734121448493
0.00000000000000
0.00000000000000
-1.52734121448493
-250446.57416554933297
85669.75186152796960
