1.52730708449952
0.00000000000000
0.00000000000000
-1.52730708449952
-249753.51549130474450
113633.78454690106446
