1.52877019271552
0.00000000000000
0.00000000000000
-1.52877019271552
-206910.94420740695205
98465.64731280269916
